BEGIN:VCALENDAR
VERSION:2.0
PRODID:-//Surfrider Vancouver Chapter - ECPv5.1.4//NONSGML v1.0//EN
CALSCALE:GREGORIAN
METHOD:PUBLISH
X-WR-CALNAME:Surfrider Vancouver Chapter
X-ORIGINAL-URL:https://vancouverbc.surfrider.org
X-WR-CALDESC:Events for Surfrider Vancouver Chapter
BEGIN:VTIMEZONE
TZID:UTC
BEGIN:STANDARD
TZOFFSETFROM:+0000
TZOFFSETTO:+0000
TZNAME:UTC
DTSTART:20200101T000000
END:STANDARD
END:VTIMEZONE
BEGIN:VEVENT
DTSTART;TZID=UTC:20200725T200000
DTEND;TZID=UTC:20200725T220000
DTSTAMP:20210509T114729
CREATED:20200329T005223Z
LAST-MODIFIED:20200627T062016Z
UID:632-1595707200-1595714400@vancouverbc.surfrider.org
SUMMARY:Community Appreciation Event
DESCRIPTION:\n\n\nAll events currently suspended due to COVID-19 \n\n\n\n\n\n\n\n\n\n\n
URL:https://vancouverbc.surfrider.org/event/community-appreciation-event/
LOCATION:BC
CATEGORIES:Events
ATTACH;FMTTYPE=image/jpeg:https://vancouverbc.surfrider.org/wp-content/uploads/2020/03/Surfrider-Annual-Meeting-1556.jpg
END:VEVENT
END:VCALENDAR